Workbook
Name Names: Validation!$T$59:$T$65

Sheet Summary
W1: Instructions:
D2: Test Protocol Summary | T2: MECLABS LLC © - All Rights Reserved | W2: White areas are places where information and/or data should be entered. All other areas (light blue boxes) will calculate automatically based on other entries. For more detailed instructions on a particular item, hover over the question marks.
D3: [Enter Test Name Here]
D6: TEST PLANNING
B8: 1 | D8: Research Question | R8: u = 2q + t + m+ 2v + i ©
D10: [enter the research question here] | T10: ?
D12: Pre-test hypotheses and notes:
D14: [Enter a test hypothesis/note here] | T14: ?
D16: [Enter a test hypothesis/note here]
D18: [Enter a test hypothesis/note here]
D20: [Enter a test hypothesis/note here]
D22: [Enter a test hypothesis/note here]
B24: 2 | D24: Control & Treatments
D26: What is the variable? | F26: [enter the test variable here] | T26: ?
D28: What are the values? | F28: [enter the values for the test variable here] | T28: ?
B30: 3 | D30: Metrics
D32: What will you measure to determine the best performing value?
D34: Primary Metric Description | F34: Metric Calculation Method
D36: [enter the metric description here] | F36: [enter the metric calculation method here] | T36: ?
D38: Secondary Metric Description | F38: Metric Calculation Method
D40: [enter the metric description here] | F40: [enter the metric calculation method here] | T40: ?
D42: [enter the metric description here] | F42: [enter the metric calculation method here]
D44: [enter the metric description here] | F44: [enter the metric calculation method here]
D46: [enter the metric description here] | F46: [enter the metric calculation method here]
B49: 4 | D49: Pre-Launch Test Analysis
D51: Have you considered the potential for these validity threats to impact your test? | K51: History effect: | Q51: [select Yes/No] | T51: ?
K52: Instrumentation effect: | Q52: [select Yes/No] | T52: ?
K53: Selection effect: | Q53: [select Yes/No] | T53: ?
K54: Sample Distortion effect: | Q54: [select Yes/No] | T54: ?
D56: Based on projections, what sample size is likely to be needed to ensure that the results are predictive? | K56: =Validation!$F$22 | O56: (from the Validation tab)
D58: Based on projections, how long would the test likely need to run in order to obtain a sufficient sample size? | K58: =Validation!$F$34 | O58: (from the Validation tab)
K59: =IF(K58="","","days")
D61: TEST LAUNCH
D63: POST-LAUNCH ANALYSIS
B65: 5 | D65: Post-Launch Test Analysis
D67: Based on actual test results, do you have a sufficient sample size and a significant variation between the two selected treatments (on the Validation tab) to provide a conclusive result? | K67: Sufficient Sample Size? | O67: =Validation!M55 | Q67: (from the Validation tab)
K68: Conversion Rate % Diff: | O68: =Validation!$M$69 | Q68: (from the Validation tab)
K69: Level of Confidence: | O69: =Validation!$M$77 | Q69: (from the Validation tab)
K70: Significant Variation? | O70: =Validation!$M$79 | Q70: (from the Validation tab)
K72: Conclusive Result? | O72: =Validation!M81 | Q72: (from the Validation tab)
D74: Have you evaluated the actual impact that these validity threats may have had on your test? | K74: History effect: | Q74: [select Yes/No] | T74: ?
K75: Instrumentation effect: | Q75: [select Yes/No] | T75: ?
K76: Selection effect: | Q76: [select Yes/No] | T76: ?
K77: Sample Distortion effect: | Q77: [select Yes/No] | T77: ?
B79: 6 | D79: Test Results
D81: What are the test results?
F83: Metric Values
D85: Primary Metric Description | F85: Control | H85: Treatment 1 | K85: Treatment 2 | M85: Treatment 3 | O85: Treatment 4 | Q85: Notes
D87: =IF(D36="[enter the metric description here]","(from Metrics section above)",D36) -> (from Metrics section above) | F87: =IF(Validation!M43="","",Validation!M43) | H87: =IF(Validation!M45="","",Validation!M45) | K87: =IF(Validation!M47="","",Validation!M47) | M87: =IF(Validation!M49="","",Validation!M49) | O87: =IF(Validation!M51="","",Validation!M51) | Q87: [enter notes here] | T87: ?
D89: Secondary Metric Description | F89: Control | H89: Treatment 1 | K89: Treatment 2 | M89: Treatment 3 | O89: Treatment 4 | Q89: Notes
D91: =IF(D40="[enter the metric description here]","(from Metrics section above)",D40) -> (from Metrics section above) | F91: [value] | H91: [value] | K91: [value] | M91: [value] | O91: [value] | Q91: [enter notes here] | T91: ?
D93: =IF(D42="[enter the metric description here]","(from Metrics section above)",D42) -> (from Metrics section above) | F93: [value] | H93: [value] | K93: [value] | M93: [value] | O93: [value] | Q93: [enter notes here]
D95: =IF(D44="[enter the metric description here]","(from Metrics section above)",D44) -> (from Metrics section above) | F95: [value] | H95: [value] | K95: [value] | M95: [value] | O95: [value] | Q95: [enter notes here]
D97: =IF(D46="[enter the metric description here]","(from Metrics section above)",D46) -> (from Metrics section above) | F97: [value] | H97: [value] | K97: [value] | M97: [value] | O97: [value] | Q97: [enter notes here]
B100: 7 | D100: Test Interpretation
D102: What insights can we gain from this test?
D104: [Enter a test interpretation/observation here] | T104: ?
D106: [Enter a test interpretation/observation here]
D108: [Enter a test interpretation/observation here]
D110: [Enter a test interpretation/observation here]
D112: [Enter a test interpretation/observation here]

Sheet Validation
D2: Validation Information | P2: MECLABS LLC © - All Rights Reserved
B3: =IF(Summary!D3="[Enter Test Name Here]","[Enter Test Name on Summary Tab]",Summary!D3) -> [Enter Test Name on Summary Tab]
D6: TEST PLANNING
B8: 1 | D8: Minimum Sample Size Calculation (based on projected data)
D10: What is the expected conversion rate (or success rate) for the control? | H10: ?
D12: What is the minimum relative difference you wish to detect? | H12: ?
D14: What is your desired level of confidence? | H14: ?
D16: The minimum absolute difference you wish to detect: | F16: =IF(OR(F10="",F12=""),"",F10*F12)
D18: Number of observations per treatment: | F18: =IF(F10="","",IF(F12="","",IF(F14="","",2*(_xlfn.NORM.S.INV(1-((1-F14)/2))^2)*F10*(1-F10)*(1/F16^2))))
D20: How many treatments will you have (including the control)? | H20: ?
D22: Projected Minimum Sample Size: | F22: =IF(F20="","",IF(F10="","",IF(F12="","",IF(F14="","",F18*F20)))) | H22: ?
B24: 2 | D24: Test Duration Calculation (based on projected data)
D26: What is your estimated traffic to the test (i.e. arrivals or visits per day)? | H26: ?
D28: Number of treatments (including the control): | F28: =IF(F20="","",F20)
D30: Estimated number of conversions per day: | F30: =IF(F26="","",IF(F10="","",F26*F10))
D32: Estimated minimum acceptable sample size (# obs.) | F32: =IF(F22="","",F22)
D34: Projected Minimum Test Duration (at least 7 days) | F34: =IF(F32="","",IF(F26="","",MAX(_xlfn.CEILING.MATH(F22/F26),7))) | H34: ?
D37: POST-LAUNCH ANALYSIS
B39: 3 | D39: Test Data & Results
D41: Control/Treatment Description | F41: Samples | H41: Conversions (Successes) | K41: Failures | M41: Conv Rate%
D43: Control - [enter the control description here] | K43: =IF(AND(NOT(F43=""),NOT(H43="")),F43-H43,"") | M43: =IF(K43="","",H43/F43) | O43: ?
D45: Treatment 1 - [enter the treatment description here] | K45: =IF(AND(NOT(F45=""),NOT(H45="")),F45-H45,"") | M45: =IF(K45="","",H45/F45) | O45: ?
D47: Treatment 2 - [enter the treatment description here] | K47: =IF(AND(NOT(F47=""),NOT(H47="")),F47-H47,"") | M47: =IF(K47="","",H47/F47)
D49: Treatment 3 - [enter the treatment description here] | K49: =IF(AND(NOT(F49=""),NOT(H49="")),F49-H49,"") | M49: =IF(K49="","",H49/F49)
D51: Treatment 4 - [enter the treatment description here]
D53: Totals: | F53: =IF(OR(NOT(F43=""),NOT(F45=""),NOT(F47=""),NOT(F49=""),NOT(F51="")),SUM(F42:F52),"") | H53: =IF(OR(NOT(H43=""),NOT(H45=""),NOT(H47=""),NOT(H49=""),NOT(H51="")),SUM(H42:H52),"") | K53: =IF(AND(NOT(F53=""),NOT(H53="")),F53-H53,"") | M53: =IF(K53="","",H53/F53)
F55: Sufficient Sample Size? | M55: =IF(M53="","",IF(F28*2*(_xlfn.NORM.S.INV(1-((1-F14)/2))^2)*M53*(1-M53)*(1/(M53*F12)^2)<F53,"YES","NO")) | O55: ?
B57: 4 | D57: Determination of Significant Variation
D59: Control/Treatment Description | F59: Samples | H59: % Traffic | K59: Conversions (Successes) | M59: Conversion Rate | T59: Baseline Treatment [select from dropdown menu]
T60: Comparative Treatment [select from dropdown menu]
D61: Baseline Treatment [select from dropdown menu] | F61: =IF($D61="Baseline Treatment [select from dropdown menu]","",INDEX(F$42:F$52,MATCH($D61,$D$42:$D$52,0))) | H61: =IF(F61="","",IF(F63="","",F61/F$65)) | K61: =IF($D61="Baseline Treatment [select from dropdown menu]","",INDEX(H$42:H$52,MATCH($D61,$D$42:$D$52,0))) | M61: =IF(F61="","",K61/$F61) | O61: ? | T61: =D43 -> Control - [enter the control description here]
T62: =D45 -> Treatment 1 - [enter the treatment description here]
D63: Comparative Treatment [select from dropdown menu] | F63: =IF($D63="Comparative Treatment [select from dropdown menu]","",INDEX(F$42:F$52,MATCH($D63,$D$42:$D$52,0))) | H63: =IF(F63="","",IF(F61="","",F63/F$65)) | K63: =IF($D63="Comparative Treatment [select from dropdown menu]","",INDEX(H$42:H$52,MATCH($D63,$D$42:$D$52,0))) | M63: =IF(F63="","",K63/$F63) | T63: =D47 -> Treatment 2 - [enter the treatment description here]
T64: =D49 -> Treatment 3 - [enter the treatment description here]
D65: Totals: | F65: =IF(F61="","",IF(F63="","",SUM(F60:F64))) | H65: =IF(H61="","",IF(H63="","",SUM(H60:H64))) | K65: =IF(K61="","",IF(K63="","",SUM(K60:K64))) | M65: =IF(M61="","",IF(M63="","",K65/F65)) | T65: =D51 -> Treatment 4 - [enter the treatment description here]
F67: Conversion Rate Difference: | M67: =IF(M65="","",ABS(M63-M61))
F69: Conversion Rate % Diff: | M69: =IF(M65="","",(M63-M61)/M61) | O69: ?
F71: Conversion Rate Test Statistic: | M71: =M67/#REF! -> #VALUE!
F73: Std Dev of the Diff in Conv Proportions: | M73: =SQRT(((M61*(1-M61)/F61)) + (M63*(1-M63)/F63)) -> #VALUE! | O73: (sample size is sufficient when less than d-Critical, below)
F75: Stat Sig Threshold for the Diff in Proportions: | M75: =M67/#REF! -> #VALUE! | O75: (d-Critical)
F77: Actual Level of Confidence: | M77: =IF(M69="","",IF(AND(_xlfn.NORM.S.DIST(ABS(M61-M63)/SQRT(M65*(1-M65)*((1/F61)+(1/F63))),TRUE)>0.999,_xlfn.NORM.S.DIST(ABS(M61-M63)/SQRT(M65*(1-M65)*((1/F61)+(1/F63))),TRUE)<=1), "99.9%", _xlfn.NORM.S.DIST(ABS(M61-M63)/SQRT(M65*(1-M65)*((1/F61)+(1/F63))),TRUE))) | O77: ?
F79: Significant Variation: | M79: =IF(M77="","",IF(M77<(1-((1-F14)/2)),"No","Yes")) | O79: ?
B81: 5 | D81: Do You Have Conclusive Results for This Pair of Treatments? | M81: =IF(M55="","",IF(M79="","",IF(AND(M55="YES", M79="YES"), "YES", "NO"))) | O81: ?
